Workbook

Sheet Datos
A1: Grupo Mobiliario del Urola, S.L. (XEY)
A3: Conceptos de Balance | C3: 2014 | E3: 2015
A4: Inmovilizaciones inmateriales | C4: 2221 | E4: 2214
A5: Inmovilizaciones materiales | C5: 14956 | E5: 14677
A6: Otros activos fijos | C6: 1820 | E6: 2656
A7: Gastos a distribuir en varios ejercicios | C7: 0 | E7: 0
A8: Total Activo Fijo | C8: =SUM(C4:C7) -> 18997 | E8: =SUM(E4:E7) -> 19547
A10: Existencias | C10: 1187 | E10: 1210
A11: Deudores | C11: 8149 | E11: 12905
A12: Inversiones financieras temporales | C12: 0 | E12: 0
A13: Tesorería | C13: 65 | E13: 15
A14: Total Activo Circulante | C14: =SUM(C10:C13) -> 9401 | E14: =SUM(E10:E13) -> 14130
A16: Total Activo | C16: =C8+C14 -> 28398 | E16: =E8+E14 -> 33677
A18: Fondos Propios | C18: 1089 | E18: 1851
A19: Otros pasivos fijos | C19: 598 | E19: 614
A20: Acreedores a Largo Plazo | C20: 13380 | E20: 15418
A21: Total Pasivo a Largo Plazo | C21: =SUM(C18:C20) -> 15067 | E21: =SUM(E18:E20) -> 17883
A23: Proveedores | C23: 4635 | E23: 6321
A24: Bancos y otros proveedores financieros a corto plazo | C24: 2847 | E24: 3046
A25: Otros acreedores | C25: 5849 | E25: 6427
A26: Total Pasivo a Corto Plazo | C26: =SUM(C23:C25) -> 13331 | E26: =SUM(E23:E25) -> 15794
A28: Total Pasivo | C28: =C21+C26 -> 28398 | E28: =E21+E26 -> 33677
A30: Conceptos de Cuenta de resultados | C30: =C3 -> 2014 | E30: =E3 -> 2015
A31: Ingresos de explotación | C31: 17349 | E31: 19681
A33: Coste de mercancias vendidas | C33: 9049 | E33: 8895
A34: Otros gastos variables | C34: 0 | E34: 0
A35: Total Gastos Variables | C35: =SUM(C33:C34) -> 9049 | E35: =SUM(E33:E34) -> 8895
A37: Margen Bruto | C37: =C31-C35 -> 8300 | E37: =E31-E35 -> 10786
A39: Gastos de personal | C39: 6247 | E39: 6151
A40: Otros Gastos de Explotación | C40: 3574 | E40: 4031
A41: Total Gastos Fijos | C41: =SUM(C39:C40) -> 9821 | E41: =SUM(E39:E40) -> 10182
A43: EBITDA | C43: =C37-C41 -> -1521 | E43: =E37-E41 -> 604
A44: Amortizaciones | C44: 1009 | E44: 1013
A45: Resultado de las operaciones (EBIT) | C45: =C43-C44 -> -2530 | E45: =E43-E44 -> -409
A47: Ingresos Financieros | C47: 2 | E47: 38
A48: Gastos financieros y asimilados | C48: 1462 | E48: 1428
A49: Resultados financieros | C49: =C47-C48 -> -1460 | E49: =E47-E48 -> -1390
A51: Ingresos extraordinarios | C51: 0 | E51: 0
A52: Gastos extraordinarios | C52: 0 | E52: 0
A53: Resultados extraordinarios | C53: =C51-C52 -> 0 | E53: =E51-E52 -> 0
...

Sheet OyA
A1: Origen y Aplicación de fondos
A3: Conceptos | C3: Origen | E3: Aplicación
A4: =Datos!A4 -> Inmovilizaciones inmateriales | C4: =IF(Datos!$E$4-Datos!$C$4>0,0,-(Datos!$E$4-Datos!$C$4)) -> 7 | E4: =IF(Datos!$E$4-Datos!$C$4<0,0,Datos!$E$4-Datos!$C$4) -> 0
A5: =Datos!A5 -> Inmovilizaciones materiales | C5: =IF(Datos!$E$5-Datos!$C$5>0,0,-(Datos!$E$5-Datos!$C$5)) -> 279 | E5: =IF(Datos!$E$5-Datos!$C$5<0,0,Datos!$E$5-Datos!$C$5) -> 0
A6: =Datos!A6 -> Otros activos fijos | C6: =IF(Datos!$E$6-Datos!$C$6>0,0,-(Datos!$E$6-Datos!$C$6)) -> 0 | E6: =IF(Datos!$E$6-Datos!$C$6<0,0,(Datos!$E$6-Datos!$C$6)) -> 836
A7: =Datos!A7 -> Gastos a distribuir en varios ejercicios | C7: =IF(Datos!$E$7-Datos!$C$7>0,0,-(Datos!$E$7-Datos!$C$7)) -> 0 | E7: =IF(Datos!$E$7-Datos!$C$7>0,(Datos!$E$7-Datos!$C$7),0) -> 0
A8: =Datos!A18 -> Fondos Propios | C8: =IF(Datos!$E$18-Datos!$C$18>0,(Datos!$E$18-Datos!$C$18),0) -> 762 | E8: =IF(Datos!$E$18-Datos!$C$18<0,-(Datos!$E$18-Datos!$C$18),0) -> 0
A9: =Datos!A19 -> Otros pasivos fijos | C9: =IF(Datos!$E$19-Datos!$C$19>0,(Datos!$E$19-Datos!$C$19),0) -> 16 | E9: =IF(Datos!$E$19-Datos!$C$19<0,-(Datos!$E$19-Datos!$C$19),0) -> 0
A10: =Datos!A20 -> Acreedores a Largo Plazo | C10: =IF(Datos!$E$20-Datos!$C$20>0,(Datos!$E$20-Datos!$C$20),0) -> 2038 | E10: =IF(Datos!$E$20-Datos!$C$20<0,-(Datos!$E$20-Datos!$C$20),0) -> 0
A11: Total origen y aplicaciones a largo plazo | C11: =SUM(C4:C10) -> 3102 | E11: =SUM(E4:E10) -> 836 | F11: =C11-E11 -> 2266
A13: =Datos!A10 -> Existencias | C13: =IF(Datos!$E$10-Datos!$C$10>0,0,-(Datos!$E$10-Datos!$C$10)) -> 0 | E13: =IF(Datos!$E$10-Datos!$C$10<0,0,(Datos!$E$10-Datos!$C$10)) -> 23
A14: =Datos!A11 -> Deudores | C14: =IF(Datos!$E$11-Datos!$C$11>0,0,-(Datos!$E$11-Datos!$C$11)) -> 0 | E14: =IF(Datos!$E$11-Datos!$C$11<0,0,(Datos!$E$11-Datos!$C$11)) -> 4756
A15: =Datos!A12 -> Inversiones financieras temporales | C15: =IF(Datos!$E$12-Datos!$C$12>0,0,-(Datos!$E$12-Datos!$C$12)) -> 0 | E15: =IF(Datos!$E$12-Datos!$C$12<0,0,(Datos!$E$12-Datos!$C$12)) -> 0
A16: =Datos!A13 -> Tesorería | C16: =IF(Datos!$E$13-Datos!$C$13>0,0,-(Datos!$E$13-Datos!$C$13)) -> 50 | E16: =IF(Datos!$E$13-Datos!$C$13<0,0,(Datos!$E$13-Datos!$C$13)) -> 0
A17: =Datos!A23 -> Proveedores | C17: =IF(Datos!$E$23-Datos!$C$23>0,(Datos!$E$23-Datos!$C$23),0) -> 1686 | E17: =IF(Datos!$E$23-Datos!$C$23<0,-(Datos!$E$23-Datos!$C$23),0) -> 0
A18: =Datos!A24 -> Bancos y otros proveedores financieros a corto plazo | C18: =IF(Datos!$E$24-Datos!$C$24>0,(Datos!$E$24-Datos!$C$24),0) -> 199 | E18: =IF(Datos!$E$24-Datos!$C$24<0,-(Datos!$E$24-Datos!$C$24),0) -> 0
A19: =Datos!A25 -> Otros acreedores | C19: =IF(Datos!$E$25-Datos!$C$25>0,(Datos!$E$25-Datos!$C$25),0) -> 578 | E19: =IF(Datos!$E$25-Datos!$C$25<0,-(Datos!$E$25-Datos!$C$25),0) -> 0
A20: Total origen y aplicaciones a corto plazo | C20: =SUM(C13:C19) -> 2513 | E20: =SUM(E13:E19) -> 4779 | F20: =C20-E20 -> -2266
C22: =Datos!C3 -> 2014 | E22: =Datos!E3 -> 2015 | F22: Evolución
A23: Fondo de Maniobra | C23: =Datos!C21-Datos!C8 -> -3930 | E23: =Datos!E21-Datos!E8 -> -1664 | F23: =E23-C23 -> 2266
A24: NOF | C24: =Datos!C21-Datos!C8 -> -3930 | E24: =Datos!E21-Datos!E8 -> -1664

Sheet RatioTesoreria
A1: Ratios tesorería | C1: =Datos!C3 -> 2014 | E1: =Datos!E3 -> 2015
A2: Activo Circulante | C2: =Datos!$C$14 -> 9401 | E2: =Datos!$E$14 -> 14130
A3: Pasivo Circulante | C3: =Datos!$C$26 -> 13331 | E3: =Datos!$E$26 -> 15794
A4: Activo Circulante/Pasivo circulante (Current Ratio)(Ratio de Solvencia) | C4: =C2/C3 -> 0.70519841 | E4: =E2/E3 -> 0.89464354
A6: Activo Circulante - Existencias | C6: =Datos!$C$14-Datos!$C$10 -> 8214 | E6: =Datos!$E$14-Datos!$E$10 -> 12920
A7: Pasivo Circulante | C7: =C3 -> 13331 | E7: =E3 -> 15794
A8: (Activo Circulante-Existencias)/Pasivo Circulante (Quick Ratio) (Ratio de liquidez) | C8: =C6/C7 -> 0.61615783 | E8: =E6/E7 -> 0.81803216

Sheet Du Pont
A1: Análisis Du Pont
C2: =Datos!C3 -> 2014 | E2: =Datos!E3 -> 2015
A3: Margen bruto (% sobre venta) | C3: =Datos!C37/Datos!C31 -> 0.47841374 | E3: =Datos!E37/Datos!E31 -> 0.54804126
A4: EBITDA (% sobre venta) | C4: =Datos!C43/Datos!C31 -> -0.087670759 | E4: =Datos!E43/Datos!E31 -> 0.030689497
A5: Resultado operaciones (% sobre venta) | C5: =Datos!C45/Datos!C31 -> -0.14582973 | E5: =Datos!E45/Datos!E31 -> -0.020781464
A6: Resultados financieros (% sobre venta) | C6: =Datos!C49/Datos!C31 -> -0.084154706 | E6: =Datos!E49/Datos!E31 -> -0.070626493
A7: Resultados extraordinarios (% sobre venta) | C7: =Datos!C53/Datos!C31 -> 0 | E7: =Datos!E53/Datos!E31 -> 0
A9: =Datos!A31 -> Ingresos de explotación | C9: =Datos!C31 -> 17349 | E9: =Datos!E31 -> 19681
A10: =Datos!A59 -> Resultado neto | C10: =Datos!C59 -> -3957 | E10: =Datos!E59 -> -988
A11: Rentabilidad sobre Ventas | C11: =C10/C9 -> -0.22808231 | E11: =E10/E9 -> -0.050200701
A13: =Datos!A31 -> Ingresos de explotación | C13: =Datos!C31 -> 17349 | E13: =Datos!E31 -> 19681
A14: =Datos!A16 -> Total Activo | C14: =Datos!C16 -> 28398 | E14: =Datos!E16 -> 33677
A15: Rotación de Activos | C15: =C13/C14 -> 0.6109233 | E15: =E13/E14 -> 0.58440479
A17: Rentabilidad sobre Activos | C17: =C11*C15 -> -0.1393408 | E17: =E11*E15 -> -0.02933753
A19: =Datos!A18 -> Fondos Propios | C19: =Datos!C18 -> 1089 | E19: =Datos!E18 -> 1851
A20: =Datos!A28 -> Total Pasivo | C20: =Datos!C28 -> 28398 | E20: =Datos!E28 -> 33677
A21: Apalancamiento financiero | C21: =C20/C19 -> 26.077135 | E21: =E20/E19 -> 18.193949
A23: Rentabilidad sobre Fondos Propios | C23: =C17*C21 -> -3.6336088 | E23: =E17*E21 -> -0.53376553
A25: Días de cobro | C25: =(Datos!C11/Datos!C31)*365 -> 171.44418 | E25: =(Datos!E11/Datos!E31)*365 -> 239.33362
A26: Días de pago | C26: =(Datos!C23/Datos!C33)*365 -> 186.95712 | E26: =(Datos!E23/Datos!E33)*365 -> 259.37774
A27: Días de existencias | C27: =(Datos!C10/Datos!C33)*365 -> 47.878771 | E27: =(Datos!E10/Datos!E33)*365 -> 49.65149

Sheet PMuerto
A1: Puento Muerto
C3: =Datos!C3 -> 2014 | E3: =Datos!E3 -> 2015
A4: Gastos Variables (% sobre ventas) | C4: =Datos!C35/Datos!C31 -> 0.52158626 | E4: =Datos!E35/Datos!E31 -> 0.45195874
A6: Gastos fijos (sin amortizaciones) | C6: =Datos!C41 -> 9821 | E6: =Datos!E41 -> 10182
A7: Gastos financieros | C7: =Datos!C48 -> 1462 | E7: =Datos!E48 -> 1428
A8: Devoluciones de préstamos
A9: Total salidas de dinero | C9: =SUM(C6:C8) -> 11283 | E9: =SUM(E6:E8) -> 11610
A11: Punto Muerto de Cobros y Pagos | C11: =C9/(1-C4) -> 23584.189 | E11: =E9/(1-E4) -> 21184.536
A13: Amortizaciones | C13: =Datos!C44 -> 1009 | E13: =Datos!E44 -> 1013
A15: Umbral de Rentabilidad | C15: =(C6+C7+C13)/(1-C4) -> 25693.242 | E15: =(E6+E7+E13)/(1-E4) -> 23032.937

Sheet Crecimiento
C1: =Datos!C3 -> 2014 | E1: =Datos!E3 -> 2015
A2: Rentabilidad sobre ventas | C2: ='Du Pont'!C11 -> -0.22808231 | E2: ='Du Pont'!E11 -> -0.050200701
A4: NOF | C4: =Datos!C14-Datos!C25-Datos!C23 -> -1083 | E4: =Datos!E14-Datos!E25-Datos!E23 -> 1382
A5: NOF sobre ventas | C5: =C4/Datos!C31 -> -0.062424347 | E5: =E4/Datos!E31 -> 0.070220009
A7: Crecimiento ventas=(Rentabilidad s/ventas)/(NOF sobre ventas-Rentabilidad sobre ventas) | C7: =(C2)/(C5-C2) -> -1.3768267 | E7: =(E2)/(E5-E2) -> -0.41687764

Sheet FCF
C2: Flujos de Caja Libres
C5: Cuenta de resultados | W5: Input
C7: Ventas | W7: Output
C8: =Datos!E31 -> 19681
G9: Margen bruto
C10: Otros ingresos | E10: + | G10: =C8+C11-C14 -> 10824
C11: =Datos!E47+Datos!E51 -> 38
C13: Coste de ventas | E13: -
C14: =Datos!E35 -> 8895 | K14: EBIT
I15: - | K15: =G10-G19 -> -371
C16: Gastos Generales
C17: =Datos!E41 -> 10182 | G17: Gastos | K17: Intereses | M17: -
G18: Operativos | K18: =Datos!E48 -> 1428
C19: Amortizaciones | E19: + | G19: =C17+C20+C23 -> 11195 | O19: Beneficio neto
C20: =Datos!E44 -> 1013 | K20: Impuestos | M20: - | O20: =K15-K18-K21 -> -988 | S20: Beneficio +
K21: =Datos!E57 -> -811 | S21: Amortizaciones
C22: Otros gastos | E22: + | O22: = Amortizaciones | Q22: - | S22: =K15+K18-K21 -> 1868 | W22: Free
C23: =Datos!E52 -> 0 | O23: =C20 -> 1013 | W23: Cash Flow
W24: (FCF)
C25: Fondo de Maniobra | U25: + | W25: =S22+S27-S39-S54 -> 480
S26: = Intereses
C27: Tesorería | S27: =K18 -> 1428
C28: =Datos!E13 -> 15
G29: Activo Circulante
C30: Cuentas a cobrar | E30: + | G30: =C28+C31+C34+C37 -> 14130
C31: =Datos!E11 -> 12905
C33: Inventario | E33: + | K33: Fondo de | U33: -
C34: =Datos!E10 -> 1210 | K34: Maniobra
K35: Final
C36: Otros | E36: + | I36: - | K36: =G30-G42 -> -1664 | S36: Change in
C37: =Datos!E12 -> 0 | S37: Working
K38: Fondo de | S38: Capital
C39: Cuentas a pagar | K39: Maniobra | M39: - | S39: =K36-K41 -> 2266
C40: =Datos!E23 -> 6321 | K40: Inicial
G41: Pasivo a corto | K41: =Datos!C21-Datos!C8 -> -3930
C42: Préstamos a corto | E42: + | G42: =C40+C43+C46 -> 15794
C43: =Datos!E24 -> 3046
C45: Otros | E45: +
C46: =Datos!E25 -> 6427 | U46: -
C48: Inversiones
...
